BEGIN:VCALENDAR
VERSION:2.0
PRODID:-//IEEE Israel Section - ECPv6.15.20//NONSGML v1.0//EN
CALSCALE:GREGORIAN
METHOD:PUBLISH
X-ORIGINAL-URL:https://ieee.org.il
X-WR-CALDESC:Events for IEEE Israel Section
REFRESH-INTERVAL;VALUE=DURATION:PT1H
X-Robots-Tag:noindex
X-PUBLISHED-TTL:PT1H
BEGIN:VTIMEZONE
TZID:Asia/Jerusalem
BEGIN:DAYLIGHT
TZOFFSETFROM:+0200
TZOFFSETTO:+0300
TZNAME:IDT
DTSTART:20240329T000000
END:DAYLIGHT
BEGIN:STANDARD
TZOFFSETFROM:+0300
TZOFFSETTO:+0200
TZNAME:IST
DTSTART:20241026T230000
END:STANDARD
BEGIN:DAYLIGHT
TZOFFSETFROM:+0200
TZOFFSETTO:+0300
TZNAME:IDT
DTSTART:20250328T000000
END:DAYLIGHT
BEGIN:STANDARD
TZOFFSETFROM:+0300
TZOFFSETTO:+0200
TZNAME:IST
DTSTART:20251025T230000
END:STANDARD
BEGIN:DAYLIGHT
TZOFFSETFROM:+0200
TZOFFSETTO:+0300
TZNAME:IDT
DTSTART:20260327T000000
END:DAYLIGHT
BEGIN:STANDARD
TZOFFSETFROM:+0300
TZOFFSETTO:+0200
TZNAME:IST
DTSTART:20261024T230000
END:STANDARD
END:VTIMEZONE
BEGIN:VEVENT
DTSTART;TZID=Asia/Jerusalem:20250526T091500
DTEND;TZID=Asia/Jerusalem:20250526T173000
DTSTAMP:20260420T235910
CREATED:20250514T163114Z
LAST-MODIFIED:20250525T181750Z
UID:2899-1748250900-1748280600@ieee.org.il
SUMMARY:Advances in Wireless Communications and Networks
DESCRIPTION:Beyong 5G and 6G\, Cognitive Radio\, Federated Learning\, ISAC\, Network Coding\, NOMA\, Smart Antenna\nRegister here: https://docs.google.com/forms/d/e/1FAIpQLScgc-vHE_uJe5orC9hc4HqEX7OMbvfsVU00__-wsqjhXIDzsw/viewform?usp=header&urp=gmail_link\nPoster submission: https://docs.google.com/forms/d/e/1FAIpQLScWA2fvGEwj4mkT7mgMQET8EmU49I3AqxDbDKq_urerrnof4g/viewform?usp=header&urp=gmail_link\nCo-sponsored by: Ben Gurion University\nAgenda:\nTime	Session	Details\n09:15–09:45	Gathering\n09:45–09:55	Opening	Dr. Dror Ofer\, Head of Ofek DivisionIgal Evenzal\, DDRD\n09:55–10:00	Welcome Address	Ben-Gurion University representative (VP/Dean/Head of the School)\n10:00–10:05	Remarks	LTC Bar – Head of Communications Branch\n10:05–10:30	Keynote Speaker Chair: TBD	Prof. George Alexandropoulos (Athens\, Greece)Reconfigurable Intelligent Surfaces: From Programmable Reflections to Over-the-Air Learning\n10:30–11:30	Session 1 Chair: Dr. Anatoly Khina (Tel Aviv University)	– Prof. Kobi Cohen (BGU): Statistical Inference and Learning over Wireless Channels – Prof. Haim Permuter (BGU): AI-Driven Solutions for Key Communication Challenges – Dr. Nir Shlezinger (BGU): Flexible and Lightweight AI for Wireless Communications\n11:30–12:00	Poster Session	An award will be given to the best three poster presentations. Student Award Committee: – Prof. Ram Zamir (Tel Aviv University) – Prof. Yuval Cassuto (Technion) – Prof. Benjamin Zaidel (Bar-Ilan University)\n12:00–13:00	Lunch on Site\n13:00–14:20	Session 2 Chair: Prof. Yuval Kochman (Hebrew University)	– Prof. Joseph Tabrikian (BGU): Cognitive Waveform Design and Beamforming for MIMO-ISAC – Prof. Alejandro Cohen (Technion): Network Coding Technologies – Shai Ginzach (Rafael): Adaptive Causal Coding for Streaming Communications – Ronen Greenberg (Elbit): Smart Spectrum Management in Distributed Networks\n14:20–14:40	Coffee Break\n14:40–15:35	Session 3 Chair: TBD	– Prof. Emanuel Cohen (Technion & Ayecka): Unified Aperture for Satcom – Prof. Dan Blumberg (VP for Regional & Industrial Development): The Innovation Ecosystem in the Negev – Prof. Qing Zhao (Cornell University\, USA): Communication-Efficient Federated Learning\n15:35–15:55	Coffee Break\n15:55–16:40	Panel Discussion Moderator: Prof. Meir Feder (Tel Aviv University)	Industry View of Future Communications (6G\, ISAC\, Tactical Networks) Panelists: – Aviel Glam (CTO\, Almagor\, Rafael) – Neta Sigron (VP R&D\, Communication Systems\, Elbit) – Avi Barda (CEO\, NOVELSAT-AYECKA)\n16:40–16:50	Student Award Announcement & Closing Remarks	Dr. Nadav Cohen\, Dr. Dror Ofer\, LTC Guy Bar\, Igal Evenzal\n16:50–17:30	Reception	Light food\, cheese\, and drinks\nBldg: 41\, Ben Gurion University\, Beersheba\, Southern District\, Israel
URL:https://ieee.org.il/event/advances-in-wireless-communications-and-networks/
LOCATION:Bldg: 41\, Ben Gurion University\, Beersheba\, Southern District\, Israel
END:VEVENT
END:VCALENDAR